BEGIN:VCALENDAR
VERSION:2.0
PRODID:-//ChamberMaster//Event Calendar 2.0//EN
METHOD:PUBLISH
X-PUBLISHED-TTL:P3D
REFRESH-INTERVAL:P3D
CALSCALE:GREGORIAN
BEGIN:VEVENT
DTSTART:20201205T150000Z
DTEND:20201205T190000Z
X-MICROSOFT-CDO-ALLDAYEVENT:FALSE
SUMMARY:Christmas Tree Lane
DESCRIPTION:Christmas Tree Lane\n\n	Groups or organizations purchase a Christmas tree from us. \n	Groups or organizations pay to decorate a Christmas tree or to have it decorated. \n	The trees are then put on display where people view and judge. \n	Finally people purchase the tree they want and takes that particular tree home with them decorations and all. Or\, you can purchase a tree for a family in need and the tree\, ornaments\, and any gifts on the tree will go to that family. \n\nLet your imagination and creativity run wild by creating a special tree. Trees make use of great themes such as\; tool trees\, Starbucks trees\, gift card trees\, pet-supply trees\, camping\, fishing and/or hunting trees\, shoe trees\, shopping trees\, nautical d cor trees\, perhaps just a single special item attached like and iPad or something similar and the rest themed ornaments\, the sky is the limit.\n\n\n\nAt the fist Old Town Christmas Tree Lane hosted by the Portland Chamber of Commerce\, we will sell artificial Christmas Trees that have been decorated in an assortment of styles by individuals\, families and local businesses. We would love your support by purchasing a tree. If you would be interested in decorating one\, please note the following ways you or your business would receive advertisement and promotion.\n\n\n	Signage will be posted by the tree with your name or business name as contributor\n	You or your business will be acknowledged in the program\n	You are encouraged to display your business card or coupons by your tree. (Please limit size to less than 3 1/2  x 3 1/2)\n\nGUIDELINES FOR THE CHRISTMAS TREE LANE ARE AS FOLLOWS:\n\n1.      Though trees are preferred\, other items that creatively substitute for a tree will gladly be accepted (i.e. wreaths\, baskets\, etc.)\n\n\n	The value of the donation should be a minimum of $150.00. If the decorations are a minimal cost\, gifts can be placed under the tree (i.e. gift certificates\, toys\, etc.) to bring the value of the donation up. \n	NO alcohol included with your tree. However\, you may include gift certificates from liquor stores. \n\nProceeds will benefit the Shop With A Cop program.
X-ALT-DESC;FMTTYPE=text/html:<span style="font-family:times new roman\,serif\;"><span style="font-size:12.0pt\;">Christmas Tree Lane</span></span>\n<ul>\n	<li><span style="font-family:times new roman\,serif\;"><span style="font-size:12.0pt\;">Groups or organizations purchase a Christmas tree from us. </span></span></li>\n	<li><span style="font-family:times new roman\,serif\;"><span style="font-size:12.0pt\;">Groups or organizations pay to decorate a Christmas tree or to have it decorated. </span></span></li>\n	<li><span style="font-family:times new roman\,serif\;"><span style="font-size:12.0pt\;">The trees are then put on display where people view and judge. </span></span></li>\n	<li><span style="font-family:times new roman\,serif\;"><span style="font-size:12.0pt\;">Finally people purchase the tree they want and takes that particular tree home with them decorations and all. Or\, you can purchase a tree for a family in need and the tree\, ornaments\, and any gifts on the tree will go to that family.</span></span>&nbsp\;</li>\n</ul>\n<span style="font-family:times new roman\,serif\;"><span style="font-size:12.0pt\;">Let your imagination and creativity run wild by creating a special tree. Trees make use of great themes such as\; tool trees\, Starbucks trees\, gift card trees\, pet-supply trees\, camping\, fishing and/or hunting trees\, shoe trees\, shopping trees\, nautical d&eacute\;cor trees\, perhaps just a single special item attached like and iPad or something similar and the rest themed ornaments\, the sky is the limit.</span></span><br />\n<br />\n<span style="font-family:times new roman\,serif\;"><span style="font-size:12.0pt\;">At the fist Old Town Christmas Tree Lane hosted by the Portland Chamber of Commerce\, we will sell artificial Christmas Trees that have been decorated in an assortment of styles by individuals\, families and local businesses. We would love your support by purchasing a tree. If you would be interested in decorating one\, please note the following ways you or your business would receive advertisement and promotion.</span></span>\n\n<ul>\n	<li><span style="font-family:times new roman\,serif\;"><span style="font-size:12.0pt\;">Signage will be posted by the tree with your name or business name as contributor</span></span></li>\n	<li><span style="font-family:times new roman\,serif\;"><span style="font-size:12.0pt\;">You or your business will be acknowledged in the program</span></span></li>\n	<li><span style="font-family:times new roman\,serif\;"><span style="font-size:12.0pt\;">You are encouraged to display your business card or coupons by your tree. (Please limit size to less than 3 1/2&nbsp\; x 3 1/2)</span></span></li>\n</ul>\n<span style="text-indent:-0.25in\;"><span style="font-size:12pt\;"><span style="font-family:times new roman\,serif\;">GUIDELINES FOR THE CHRISTMAS TREE LANE ARE AS FOLLOWS:</span></span></span><br />\n<span style="text-indent:-0.25in\;"><span style="font-family:times new roman\,serif\;"><span style="font-size:12pt\;">1.&nbsp\;&nbsp\;&nbsp\;&nbsp\;&nbsp\; </span></span></span><span style="text-indent:-0.25in\;"><span style="font-family:times new roman\,serif\;"><span style="font-size:12pt\;">Though trees are preferred\, other items that creatively substitute for a tree will gladly be accepted (i.e. wreaths\, baskets\, etc.)</span></span></span>\n\n<ol>\n	<li value="2"><span style="font-family:times new roman\,serif\;"><span style="font-size:12.0pt\;">The value of the donation should be a minimum of $150.00. If the decorations are a minimal cost\, gifts can be placed under the tree (i.e. gift certificates\, toys\, etc.) to bring the value of the donation up. </span></span></li>\n	<li value="3"><span style="font-family:times new roman\,serif\;"><span style="font-size:12.0pt\;">NO alcohol included with your tree. However\, you may include gift certificates from liquor stores. </span></span></li>\n</ol>\n<span style="font-family:times new roman\,serif\;"><span style="font-size:12pt\;">P</span></span><span style="font-size:12pt\;"><span style="font-family:times new roman\,serif\;">roceeds will benefit the Shop With A Cop program.</span></span>
LOCATION:OLD TOWN PORTLAND 810 Houston Corner of Houston & Seventh Street
UID:e.1912.11263
SEQUENCE:3
DTSTAMP:20260421T123953Z
URL:http://portlandtx.chambermaster.com/events/details/christmas-tree-lane-11263
END:VEVENT

END:VCALENDAR
