BEGIN:VCALENDAR
VERSION:2.0
PRODID:-//ChamberMaster//Event Calendar 2.0//EN
METHOD:PUBLISH
X-PUBLISHED-TTL:P3D
REFRESH-INTERVAL:P3D
CALSCALE:GREGORIAN
BEGIN:VEVENT
DTSTART:20210223T173000Z
DTEND:20210223T193000Z
X-MICROSOFT-CDO-ALLDAYEVENT:FALSE
SUMMARY:Customer Service Training
DESCRIPTION:Customer Service Training        \n\n\n\nTexas Friendly certified hospitality training instructors Shelly Stuart and Liz Worley\, PhD will be teaching this workshop on best practices in customer service. This is a program for small business owners\, organizations and attractions interested in having their staff become certified in hospitality and customer service. Sessions cover all aspects of being customer friendly and assisting patrons\; principles that apply to all industries.
X-ALT-DESC;FMTTYPE=text/html:<span style="font-size:14px\;"><span style="font-family:arial\;">Customer Service Training&nbsp\; &nbsp\; &nbsp\; &nbsp\;&nbsp\;<br />\n<br />\n<span style="color: rgb(51\, 80\, 109)\;">Texas Friendly certified hospitality training instructors Shelly Stuart and Liz Worley\, PhD will be teaching this workshop on best practices in customer service. This is a program for small business owners\, organizations and attractions&nbsp\;interested in having their staff become certified in hospitality and customer service. Sessions cover all aspects of being customer friendly and assisting patrons\; principles that apply to all industries.</span></span></span>
LOCATION:Portland Chamber of Commerce 1512 Wildcat Dr. Portland\, TX 78374
UID:e.1912.11310
SEQUENCE:3
DTSTAMP:20260422T034957Z
URL:http://portlandtx.chambermaster.com/events/details/customer-service-training-11310
END:VEVENT

END:VCALENDAR
