BEGIN:VCALENDAR
VERSION:2.0
PRODID:-//ChamberMaster//Event Calendar 2.0//EN
METHOD:PUBLISH
X-PUBLISHED-TTL:P3D
REFRESH-INTERVAL:P3D
CALSCALE:GREGORIAN
BEGIN:VEVENT
DTSTART:20210330T170000Z
DTEND:20210330T180000Z
X-MICROSOFT-CDO-ALLDAYEVENT:FALSE
SUMMARY:Identity Theft Prevention
DESCRIPTION:Did you know Ransomware was up 41% last year during the pandemic? That includes 113 State Municipal Governments\, 764 Healthcare Providers\, and 89 Universities\, Colleges\, & School Districts! All it takes is one click to destroy all of the data inside an organization. Come join us online to learn how to avoid this serious issue hosted by Thought Leader\, Trend Hunter\, Behavioral Expert\, & International Cyber Security Advocate\, Frank Mulcahy.
X-ALT-DESC;FMTTYPE=text/html:<span style="color:#000000\;"><span style="font-size:12px\;"><span style="font-family:arial\;"><span class="JsGRdQ">Did you know Ransomware was up 41% last year during the pandemic? That includes 113 State Municipal Governments\, 764 Healthcare Providers\, and 89 Universities\, Colleges\, &amp\; School Districts! All it takes is one click to destroy all of the data inside an organization. Come join us online to learn how to avoid this serious issue hosted by Thought Leader\, Trend Hunter\, Behavioral Expert\, &amp\; International Cyber Security Advocate\, Frank Mulcahy.</span></span></span></span>
LOCATION:Virtual Event via Zoom
UID:e.1912.11337
SEQUENCE:3
DTSTAMP:20260424T101318Z
URL:http://portlandtx.chambermaster.com/events/details/identity-theft-prevention-11337
END:VEVENT

END:VCALENDAR
