BEGIN:VCALENDAR
VERSION:2.0
PRODID:-//ChamberMaster//Event Calendar 2.0//EN
METHOD:PUBLISH
X-PUBLISHED-TTL:P3D
REFRESH-INTERVAL:P3D
CALSCALE:GREGORIAN
BEGIN:VEVENT
DTSTART:20201024T230000Z
DTEND:20201025T010000Z
X-MICROSOFT-CDO-ALLDAYEVENT:FALSE
SUMMARY:Pumpkin Carving Bash
DESCRIPTION:Come decorate a pumpkin in the patch! Paint\, decorate\, or carve! Bring your own pumpkin or purchase one at the patch. This is a socially distanced event. We encourage you to bring your own supplies to decorate\, but we will have some supplies on hand. Masks are not required as long as you can reasonably socially distance. Please stay home if you are sick or anyone you know has been sick. There is no charge. You just need to supply your own pumpkins.
X-ALT-DESC;FMTTYPE=text/html:Come decorate a pumpkin in the patch! Paint\, decorate\, or carve! Bring your own pumpkin or purchase one at the patch. This is a socially distanced event. We encourage you to bring your own supplies to decorate\, but we will have some supplies on hand. Masks are not required as long as you can reasonably socially distance. Please stay home if you are sick or anyone you know has been sick. There is no charge. You just need to supply your own pumpkins.
LOCATION:First United Methodist Church - Portland\, TX 4545 Wildcat Dr.
UID:e.1912.11266
SEQUENCE:3
DTSTAMP:20260425T195534Z
URL:http://portlandtx.chambermaster.com/events/details/pumpkin-carving-bash-11266
END:VEVENT

END:VCALENDAR
