BEGIN:VCALENDAR
VERSION:2.0
PRODID:-//ChamberMaster//Event Calendar 2.0//EN
METHOD:PUBLISH
X-PUBLISHED-TTL:P3D
REFRESH-INTERVAL:P3D
CALSCALE:GREGORIAN
BEGIN:VEVENT
DTSTART:20201112T143000Z
DTEND:20201112T163000Z
X-MICROSOFT-CDO-ALLDAYEVENT:FALSE
SUMMARY:Quickbooks Workshop
DESCRIPTION:An interactive workshop that will teach you everything that you need to know to get your business up and running in QuickBooks... even if you have never used QuickBooks before.
X-ALT-DESC;FMTTYPE=text/html:<span class="SS_gjA" style="font-style: italic\; color: rgb(0\, 0\, 0)\;">An interactive workshop that will teach you everything that you need to know to get your business up and running in QuickBooks... even if you have never used QuickBooks before.</span>
LOCATION:Portland Chamber of Commerce 1512 Wildcat Dr Portland\, TX 78374
UID:e.1912.11252
SEQUENCE:3
DTSTAMP:20260423T123315Z
URL:http://portlandtx.chambermaster.com/events/details/quickbooks-workshop-11252
END:VEVENT

END:VCALENDAR
